BEGIN:VCALENDAR
VERSION:2.0
PRODID:-//Troop 8 - ECPv6.15.20//NONSGML v1.0//EN
CALSCALE:GREGORIAN
METHOD:PUBLISH
X-WR-CALNAME:Troop 8
X-ORIGINAL-URL:https://troop8scouting.org
X-WR-CALDESC:Events for Troop 8
REFRESH-INTERVAL;VALUE=DURATION:PT1H
X-Robots-Tag:noindex
X-PUBLISHED-TTL:PT1H
BEGIN:VTIMEZONE
TZID:America/Chicago
BEGIN:DAYLIGHT
TZOFFSETFROM:-0600
TZOFFSETTO:-0500
TZNAME:CDT
DTSTART:20190310T080000
END:DAYLIGHT
BEGIN:STANDARD
TZOFFSETFROM:-0500
TZOFFSETTO:-0600
TZNAME:CST
DTSTART:20191103T070000
END:STANDARD
BEGIN:DAYLIGHT
TZOFFSETFROM:-0600
TZOFFSETTO:-0500
TZNAME:CDT
DTSTART:20200308T080000
END:DAYLIGHT
BEGIN:STANDARD
TZOFFSETFROM:-0500
TZOFFSETTO:-0600
TZNAME:CST
DTSTART:20201101T070000
END:STANDARD
BEGIN:DAYLIGHT
TZOFFSETFROM:-0600
TZOFFSETTO:-0500
TZNAME:CDT
DTSTART:20210314T080000
END:DAYLIGHT
BEGIN:STANDARD
TZOFFSETFROM:-0500
TZOFFSETTO:-0600
TZNAME:CST
DTSTART:20211107T070000
END:STANDARD
BEGIN:DAYLIGHT
TZOFFSETFROM:-0600
TZOFFSETTO:-0500
TZNAME:CDT
DTSTART:20220313T080000
END:DAYLIGHT
BEGIN:STANDARD
TZOFFSETFROM:-0500
TZOFFSETTO:-0600
TZNAME:CST
DTSTART:20221106T070000
END:STANDARD
BEGIN:DAYLIGHT
TZOFFSETFROM:-0600
TZOFFSETTO:-0500
TZNAME:CDT
DTSTART:20230312T080000
END:DAYLIGHT
BEGIN:STANDARD
TZOFFSETFROM:-0500
TZOFFSETTO:-0600
TZNAME:CST
DTSTART:20231105T070000
END:STANDARD
BEGIN:DAYLIGHT
TZOFFSETFROM:-0600
TZOFFSETTO:-0500
TZNAME:CDT
DTSTART:20240310T080000
END:DAYLIGHT
BEGIN:STANDARD
TZOFFSETFROM:-0500
TZOFFSETTO:-0600
TZNAME:CST
DTSTART:20241103T070000
END:STANDARD
BEGIN:DAYLIGHT
TZOFFSETFROM:-0600
TZOFFSETTO:-0500
TZNAME:CDT
DTSTART:20250309T080000
END:DAYLIGHT
BEGIN:STANDARD
TZOFFSETFROM:-0500
TZOFFSETTO:-0600
TZNAME:CST
DTSTART:20251102T070000
END:STANDARD
BEGIN:DAYLIGHT
TZOFFSETFROM:-0600
TZOFFSETTO:-0500
TZNAME:CDT
DTSTART:20260308T080000
END:DAYLIGHT
BEGIN:STANDARD
TZOFFSETFROM:-0500
TZOFFSETTO:-0600
TZNAME:CST
DTSTART:20261101T070000
END:STANDARD
END:VTIMEZONE
BEGIN:VTIMEZONE
TZID:UTC
BEGIN:STANDARD
TZOFFSETFROM:+0000
TZOFFSETTO:+0000
TZNAME:UTC
DTSTART:20190101T000000
END:STANDARD
END:VTIMEZONE
BEGIN:VEVENT
DTSTART;TZID=America/Chicago:20250209T094500
DTEND;TZID=America/Chicago:20250209T120000
DTSTAMP:20260423T053327
CREATED:20250120T014548Z
LAST-MODIFIED:20250120T025802Z
UID:1452-1739094300-1739102400@troop8scouting.org
SUMMARY:Scout Sunday 2025
DESCRIPTION:Scout Sunday is our yearly affirmation of the twelfth point of the Scout Law: A Scout is Reverent. The troop will be recognized by our charter organization\, the First Baptist Church. It is a good opportunity for each scout to respect their Duty to God and to make a good name for Scouting in the community. Scout Sunday is free and open to all.
URL:https://troop8scouting.org/event/scout-sunday-2025/
LOCATION:First Baptist Church\, 901 Main Street\, Pineville\, LA\, 71360\, United States
CATEGORIES:Scout Sunday,Special Events
ATTACH;FMTTYPE=image/jpeg:https://troop8scouting.org/wp-content/uploads/2024/11/maxresdefault-2.jpg
ORGANIZER;CN="First Baptist Church Pineville":MAILTO:info@fbcpineville.net
END:VEVENT
BEGIN:VEVENT
DTSTART;TZID=America/Chicago:20250204T181500
DTEND;TZID=America/Chicago:20250204T191500
DTSTAMP:20260423T053327
CREATED:20250120T023551Z
LAST-MODIFIED:20250120T035519Z
UID:1456-1738692900-1738696500@troop8scouting.org
SUMMARY:Regular Meeting
DESCRIPTION:We will hold a regular meeting on February 4\, 2025. Current scouts are expected to show up in Class A uniform. \nDuring this meeting we will discuss proper form and equipment for exercising. We will also hold our yearly elections.
URL:https://troop8scouting.org/event/feb-2025-regular-meeting/
LOCATION:First Baptist Church\, 901 Main Street\, Pineville\, LA\, 71360\, United States
CATEGORIES:Troop Meeting
ATTACH;FMTTYPE=image/png:https://troop8scouting.org/wp-content/uploads/2025/01/Troop-8.png
ORGANIZER;CN="Troop 8":MAILTO:info@troop8scouting.org
END:VEVENT
BEGIN:VEVENT
DTSTART;TZID=America/Chicago:20250124T000000
DTEND;TZID=America/Chicago:20250126T235959
DTSTAMP:20260423T053327
CREATED:20241210T031806Z
LAST-MODIFIED:20250120T024946Z
UID:1281-1737676800-1737935999@troop8scouting.org
SUMMARY:Klondike 2025
DESCRIPTION:Klondike is a fun camping opportunity for all troops within the Louisiana Purchase Council! Troops camp out and compete in various games\, developing skills like knot-tying and fire-building\, and cooking. Klondike is also a great opportunity for team-building within and outside of the troop. The games culminate in a troop dogsled race and scouts will be challenged to demonstrate the knowledge that they have gained through the weekend. Show up to this fun event on Friday\, January 17th through Sunday\, January 19th! \nFind more information and register on the council website here.
URL:https://troop8scouting.org/event/klondike-2025/
LOCATION:Camp T.L. James\, 105 Camp TL James Rd\, Downsville\, LA\, 71234\, United States
CATEGORIES:Special Events
ATTACH;FMTTYPE=image/jpeg:https://troop8scouting.org/wp-content/uploads/2024/12/tlj.jpg
END:VEVENT
BEGIN:VEVENT
DTSTART;TZID=America/Chicago:20241122T000000
DTEND;TZID=America/Chicago:20241126T235959
DTSTAMP:20260423T053327
CREATED:20241028T001330Z
LAST-MODIFIED:20241117T024821Z
UID:591-1732233600-1732665599@troop8scouting.org
SUMMARY:Winter Camp 2024
DESCRIPTION:Louisiana Purchase Council Winter Camp 2024\nLocated at Camp Attakapas\nWinter camp is a 4-day camping experience for all scouts in the troop.  Scouts will earn four merit badges\, participate in camp competitions\, and have an incredible social experience that they will remember for the rest of their lives. One event exclusive to winter camp is Night Infiltration\, where scouts must sneak around camp to find the “General” without getting caught by staff. Don’t miss out on the opportunity to experience winter camp at Camp Attakapas. \nDeadline to register is Monday\, November 20th. \nRegister here. \nSee more of Troop 8 at Camp Attakapas here.
URL:https://troop8scouting.org/event/winter-camp-2024/
LOCATION:Camp Attakapas\, Boy Scouts Road\, Trout\, LA\, 71371\, United States
CATEGORIES:Troop Campout,Winter Camp
ATTACH;FMTTYPE=image/png:https://troop8scouting.org/wp-content/uploads/2024/10/Friday-November-22nd-Tuesday-November-26th.png
END:VEVENT
BEGIN:VEVENT
DTSTART;TZID=America/Chicago:20241119T180000
DTEND;TZID=America/Chicago:20241119T190000
DTSTAMP:20260423T053327
CREATED:20241113T043852Z
LAST-MODIFIED:20241117T023550Z
UID:1073-1732039200-1732042800@troop8scouting.org
SUMMARY:Court of Honor
DESCRIPTION:On November 19\, 2024\, Troop 8 will be hosting a Court of Honor to recognize the effort and dedication of our scouts. We invite all family and friends to join us and celebrate another year of scouting! \nScouts should wear their full Class A uniforms.
URL:https://troop8scouting.org/event/court-of-honor-3/
LOCATION:First Baptist Church\, 901 Main Street\, Pineville\, LA\, 71360\, United States
CATEGORIES:Court of Honor,Special Events
ATTACH;FMTTYPE=image/png:https://troop8scouting.org/wp-content/uploads/2024/11/TROOP-8-COURT-OF-HONOR1.png
ORGANIZER;CN="Troop 8":MAILTO:info@troop8scouting.org
END:VEVENT
BEGIN:VEVENT
DTSTART;TZID=America/Chicago:20220719T180000
DTEND;TZID=America/Chicago:20220719T190000
DTSTAMP:20260423T053327
CREATED:20220214T031325Z
LAST-MODIFIED:20220214T031325Z
UID:317-1658253600-1658257200@troop8scouting.org
SUMMARY:Court of Honor
DESCRIPTION:Court of Honor
URL:https://troop8scouting.org/event/court-of-honor-2/
LOCATION:First United Methodist Church\, 2550 Monroe Highway\, Pineville\, LA\, 71360\, United States
END:VEVENT
BEGIN:VEVENT
DTSTART;VALUE=DATE:20220709
DTEND;VALUE=DATE:20220711
DTSTAMP:20260423T053327
CREATED:20220214T031219Z
LAST-MODIFIED:20220214T031226Z
UID:314-1657324800-1657497599@troop8scouting.org
SUMMARY:Houston Aquarium
DESCRIPTION:Houston Aquarium \nScouts will earn the Marine Biology merit badge. They must come prepared to camp the night.
URL:https://troop8scouting.org/event/houston-aquarium/
LOCATION:LA
END:VEVENT
BEGIN:VEVENT
DTSTART;TZID=America/Chicago:20220621T180000
DTEND;TZID=America/Chicago:20220621T190000
DTSTAMP:20260423T053327
CREATED:20220214T031005Z
LAST-MODIFIED:20220214T031005Z
UID:312-1655834400-1655838000@troop8scouting.org
SUMMARY:Uniform Inspection Night
DESCRIPTION:Uniform Inspection Night \nCome in full uniform.
URL:https://troop8scouting.org/event/uniform-inspection-night-4/
LOCATION:First United Methodist Church\, 2550 Monroe Highway\, Pineville\, LA\, 71360\, United States
END:VEVENT
BEGIN:VEVENT
DTSTART;VALUE=DATE:20220605
DTEND;VALUE=DATE:20220611
DTSTAMP:20260423T053327
CREATED:20220214T030917Z
LAST-MODIFIED:20220214T030917Z
UID:310-1654387200-1654905599@troop8scouting.org
SUMMARY:Summer Camp
DESCRIPTION:Summer Camp \nA 5-Day camping event. Scouts will earn 5 merit badges.
URL:https://troop8scouting.org/event/summer-camp/
LOCATION:Camp Attakapas\, Boy Scouts Road\, Trout\, LA\, 71371\, United States
END:VEVENT
BEGIN:VEVENT
DTSTART;TZID=America/Chicago:20220517T180000
DTEND;TZID=America/Chicago:20220517T190000
DTSTAMP:20260423T053327
CREATED:20220214T030800Z
LAST-MODIFIED:20220214T030800Z
UID:308-1652810400-1652814000@troop8scouting.org
SUMMARY:Uniform Inspection Night
DESCRIPTION:Uniform Inspection Night \nCome in full uniform.
URL:https://troop8scouting.org/event/uniform-inspection-night-3/
LOCATION:First United Methodist Church\, 2550 Monroe Highway\, Pineville\, LA\, 71360\, United States
END:VEVENT
BEGIN:VEVENT
DTSTART;VALUE=DATE:20220506
DTEND;VALUE=DATE:20220508
DTSTAMP:20260423T053327
CREATED:20220214T030711Z
LAST-MODIFIED:20220214T030711Z
UID:306-1651795200-1651967999@troop8scouting.org
SUMMARY:Canoeing
DESCRIPTION:Canoeing \nScouts must come prepared to camp the night before canoeing.
URL:https://troop8scouting.org/event/canoeing/
LOCATION:LA
END:VEVENT
BEGIN:VEVENT
DTSTART;VALUE=DATE:20220423
DTEND;VALUE=DATE:20220424
DTSTAMP:20260423T053327
CREATED:20220214T030603Z
LAST-MODIFIED:20220214T030603Z
UID:303-1650672000-1650758399@troop8scouting.org
SUMMARY:Southern Forest Heritage Museum
DESCRIPTION:Southern Forest Heritage Museum \nScouts must come prepared to CAMP at the museum.
URL:https://troop8scouting.org/event/southern-forest-heritage-museum/
LOCATION:Southern Forest Heritage Museum\, 77 Longleaf Rd\, Forest Hill\, LA\, 71448\, United States
END:VEVENT
BEGIN:VEVENT
DTSTART;TZID=America/Chicago:20220412T180000
DTEND;TZID=America/Chicago:20220412T190000
DTSTAMP:20260423T053327
CREATED:20220214T030359Z
LAST-MODIFIED:20220214T030359Z
UID:301-1649786400-1649790000@troop8scouting.org
SUMMARY:Uniform Inspection Night
DESCRIPTION:Uniform Inspection Night \nCome in full uniform.
URL:https://troop8scouting.org/event/uniform-inspection-night-2/
LOCATION:First United Methodist Church\, 2550 Monroe Highway\, Pineville\, LA\, 71360\, United States
END:VEVENT
BEGIN:VEVENT
DTSTART;TZID=America/Chicago:20220409T090000
DTEND;TZID=America/Chicago:20220409T120000
DTSTAMP:20260423T053327
CREATED:20220214T030255Z
LAST-MODIFIED:20220214T030255Z
UID:298-1649494800-1649505600@troop8scouting.org
SUMMARY:Automotive / Farming Merit Badges
DESCRIPTION:Automotive / Farming Merit Badges \nScouts will earn the Automotive and Farming merit badges.
URL:https://troop8scouting.org/event/automotive-farming-merit-badges/
LOCATION:Ross Bus Center\, 2913 N Bolton Ave\, Alexandria\, LA\, 71303\, United States
END:VEVENT
BEGIN:VEVENT
DTSTART;VALUE=DATE:20220325
DTEND;VALUE=DATE:20220328
DTSTAMP:20260423T053327
CREATED:20220214T025936Z
LAST-MODIFIED:20220214T025936Z
UID:296-1648166400-1648425599@troop8scouting.org
SUMMARY:Cub O'Ree
DESCRIPTION:Cub O’Ree \nCome prepared to stay for two nights at Camp Attakapas. Scouts will help volunteer for Cub O’Ree and earn service hours.
URL:https://troop8scouting.org/event/cub-oree/
LOCATION:Camp Attakapas\, Boy Scouts Road\, Trout\, LA\, 71371\, United States
END:VEVENT
BEGIN:VEVENT
DTSTART;TZID=America/Chicago:20220315T180000
DTEND;TZID=America/Chicago:20220315T190000
DTSTAMP:20260423T053327
CREATED:20220214T025756Z
LAST-MODIFIED:20220214T025756Z
UID:291-1647367200-1647370800@troop8scouting.org
SUMMARY:Uniform Inspection Night
DESCRIPTION:Uniform Inspection Night \nCome in full uniform.
URL:https://troop8scouting.org/event/uniform-inspection-night/
LOCATION:First United Methodist Church\, 2550 Monroe Highway\, Pineville\, LA\, 71360\, United States
END:VEVENT
BEGIN:VEVENT
DTSTART;VALUE=DATE:20220311
DTEND;VALUE=DATE:20220312
DTSTAMP:20260423T053327
CREATED:20220214T025450Z
LAST-MODIFIED:20220214T031337Z
UID:288-1646956800-1647043199@troop8scouting.org
SUMMARY:Fishing Merit Badge & Bonfire
DESCRIPTION:Fishing Merit Badge & Bonfire
URL:https://troop8scouting.org/event/fishing-merit-badge-bonfire/
LOCATION:Joe Hoover’s House\, 1084 Hwy 1206\, Deville\, LA\, 71328\, United States
END:VEVENT
BEGIN:VEVENT
DTSTART;TZID=America/Chicago:20220308T180000
DTEND;TZID=America/Chicago:20220308T190000
DTSTAMP:20260423T053327
CREATED:20220214T025309Z
LAST-MODIFIED:20220214T025309Z
UID:286-1646762400-1646766000@troop8scouting.org
SUMMARY:Scouting Heritage Merit Badge Presentation
DESCRIPTION:Scouting Heritage Merit Badge Presentation
URL:https://troop8scouting.org/event/scouting-heritage-merit-badge-presentation/
LOCATION:First United Methodist Church\, 2550 Monroe Highway\, Pineville\, LA\, 71360\, United States
END:VEVENT
BEGIN:VEVENT
DTSTART;TZID=America/Chicago:20220219T090000
DTEND;TZID=America/Chicago:20220219T090000
DTSTAMP:20260423T053327
CREATED:20220214T025200Z
LAST-MODIFIED:20220214T025200Z
UID:284-1645261200-1645261200@troop8scouting.org
SUMMARY:Welding / Plumbing Merit Badge
DESCRIPTION:Welding / Plumbing Merit Badge \nWear old jeans\, a long sleeve shirt\, and closed-toe shoes.
URL:https://troop8scouting.org/event/welding-plumbing-merit-badge/
LOCATION:LA
END:VEVENT
BEGIN:VEVENT
DTSTART;TZID=America/Chicago:20220208T190000
DTEND;TZID=America/Chicago:20220208T200000
DTSTAMP:20260423T053327
CREATED:20220214T024904Z
LAST-MODIFIED:20220214T024904Z
UID:282-1644346800-1644350400@troop8scouting.org
SUMMARY:Court of Honor - 2/8/2022
DESCRIPTION:Court of Honor
URL:https://troop8scouting.org/event/court-of-honor-2-13-22/
LOCATION:First United Methodist Church\, 2550 Monroe Highway\, Pineville\, LA\, 71360\, United States
END:VEVENT
BEGIN:VEVENT
DTSTART;TZID=America/Chicago:20210604T180000
DTEND;TZID=America/Chicago:20210604T190000
DTSTAMP:20260423T053327
CREATED:20210601T223938Z
LAST-MODIFIED:20210601T223938Z
UID:211-1622829600-1622833200@troop8scouting.org
SUMMARY:Eagle Ceremony
DESCRIPTION:
URL:https://troop8scouting.org/event/eagle-ceremony/
LOCATION:First United Methodist Church\, 2550 Monroe Highway\, Pineville\, LA\, 71360\, United States
END:VEVENT
BEGIN:VEVENT
DTSTART;TZID=America/Chicago:20210105T180000
DTEND;TZID=America/Chicago:20210105T190000
DTSTAMP:20260423T053327
CREATED:20201206T154046Z
LAST-MODIFIED:20201206T154046Z
UID:140-1609869600-1609873200@troop8scouting.org
SUMMARY:Meeting
DESCRIPTION:
URL:https://troop8scouting.org/event/meeting-4/
LOCATION:First United Methodist Church\, 2550 Monroe Highway\, Pineville\, LA\, 71360\, United States
END:VEVENT
BEGIN:VEVENT
DTSTART;TZID=America/Chicago:20201219T090000
DTEND;TZID=America/Chicago:20201219T130000
DTSTAMP:20260423T053327
CREATED:20201206T153920Z
LAST-MODIFIED:20201206T154453Z
UID:138-1608368400-1608382800@troop8scouting.org
SUMMARY:Bell Ringing
DESCRIPTION:
URL:https://troop8scouting.org/event/bell-ringing/
LOCATION:Mac’s Fresh Market – Tioga\, 4617 Shreveport Highway\, Pineville\, LA\, 71360\, United States
END:VEVENT
BEGIN:VEVENT
DTSTART;TZID=America/Chicago:20201215T180000
DTEND;TZID=America/Chicago:20201215T190000
DTSTAMP:20260423T053327
CREATED:20201206T153114Z
LAST-MODIFIED:20201206T153523Z
UID:136-1608055200-1608058800@troop8scouting.org
SUMMARY:Court of Honor
DESCRIPTION:All scouts must come dressed in Class A (Shirt\, scarf\, pants\, and sash) \nTake home popcorn will also be given out by Mr. Steen.
URL:https://troop8scouting.org/event/court-of-honor/
LOCATION:First United Methodist Church\, 2550 Monroe Highway\, Pineville\, LA\, 71360\, United States
END:VEVENT
BEGIN:VEVENT
DTSTART;TZID=America/Chicago:20201208T180000
DTEND;TZID=America/Chicago:20201208T190000
DTSTAMP:20260423T053327
CREATED:20201206T152309Z
LAST-MODIFIED:20201206T152309Z
UID:134-1607450400-1607454000@troop8scouting.org
SUMMARY:Meeting
DESCRIPTION:Board of Review\, come in uniform with book.
URL:https://troop8scouting.org/event/meeting-3/
LOCATION:First United Methodist Church\, 2550 Monroe Highway\, Pineville\, LA\, 71360\, United States
END:VEVENT
BEGIN:VEVENT
DTSTART;TZID=UTC:20201120T160000
DTEND;TZID=UTC:20201124T160000
DTSTAMP:20260423T053327
CREATED:20201108T064213Z
LAST-MODIFIED:20201108T064213Z
UID:56-1605888000-1606233600@troop8scouting.org
SUMMARY:Winter Camp: Camp Attakapas
DESCRIPTION:Camp Attakapas is a camp specifically for Boy Scouts. You must be a registered Boy Scout and sign up during a meeting in early November. We work on a variety of Merit badges ranging from Robotics to Wilderness Survival to Shotgun Shooting\, so there’s something for everyone. \n  \nNote: Registration is now closed.
URL:https://troop8scouting.org/event/winter-camp-camp-attakapas/
LOCATION:Camp Attakapas\, Boy Scouts Road\, Trout\, LA\, 71371\, United States
END:VEVENT
BEGIN:VEVENT
DTSTART;TZID=America/Chicago:20201117T180000
DTEND;TZID=America/Chicago:20201117T190000
DTSTAMP:20260423T053327
CREATED:20201111T003855Z
LAST-MODIFIED:20201111T003918Z
UID:99-1605636000-1605639600@troop8scouting.org
SUMMARY:Meeting
DESCRIPTION:
URL:https://troop8scouting.org/event/meeting-2/
LOCATION:First United Methodist Church\, 2550 Monroe Highway\, Pineville\, LA\, 71360\, United States
END:VEVENT
BEGIN:VEVENT
DTSTART;TZID=America/Chicago:20201114T083000
DTEND;TZID=America/Chicago:20201114T220000
DTSTAMP:20260423T053327
CREATED:20201111T013253Z
LAST-MODIFIED:20201111T013253Z
UID:121-1605342600-1605391200@troop8scouting.org
SUMMARY:Scouting for Food
DESCRIPTION:
URL:https://troop8scouting.org/event/scouting-for-food/
LOCATION:Valero\, 5001 Highway 28 East\, Pineville\, LA\, 71360\, United States
END:VEVENT
BEGIN:VEVENT
DTSTART;TZID=UTC:20201110T180000
DTEND;TZID=UTC:20201110T190000
DTSTAMP:20260423T053327
CREATED:20201109T005857Z
LAST-MODIFIED:20201109T005857Z
UID:84-1605031200-1605034800@troop8scouting.org
SUMMARY:Meeting
DESCRIPTION:
URL:https://troop8scouting.org/event/meeting/
LOCATION:First United Methodist Church\, 2550 Monroe Highway\, Pineville\, LA\, 71360\, United States
END:VEVENT
END:VCALENDAR