BEGIN:VCALENDAR
VERSION:2.0
PRODID:-//Troop 8 - ECPv6.15.20//NONSGML v1.0//EN
CALSCALE:GREGORIAN
METHOD:PUBLISH
X-WR-CALNAME:Troop 8
X-ORIGINAL-URL:https://troop8scouting.org
X-WR-CALDESC:Events for Troop 8
REFRESH-INTERVAL;VALUE=DURATION:PT1H
X-Robots-Tag:noindex
X-PUBLISHED-TTL:PT1H
BEGIN:VTIMEZONE
TZID:America/Chicago
BEGIN:DAYLIGHT
TZOFFSETFROM:-0600
TZOFFSETTO:-0500
TZNAME:CDT
DTSTART:20210314T080000
END:DAYLIGHT
BEGIN:STANDARD
TZOFFSETFROM:-0500
TZOFFSETTO:-0600
TZNAME:CST
DTSTART:20211107T070000
END:STANDARD
BEGIN:DAYLIGHT
TZOFFSETFROM:-0600
TZOFFSETTO:-0500
TZNAME:CDT
DTSTART:20220313T080000
END:DAYLIGHT
BEGIN:STANDARD
TZOFFSETFROM:-0500
TZOFFSETTO:-0600
TZNAME:CST
DTSTART:20221106T070000
END:STANDARD
BEGIN:DAYLIGHT
TZOFFSETFROM:-0600
TZOFFSETTO:-0500
TZNAME:CDT
DTSTART:20230312T080000
END:DAYLIGHT
BEGIN:STANDARD
TZOFFSETFROM:-0500
TZOFFSETTO:-0600
TZNAME:CST
DTSTART:20231105T070000
END:STANDARD
BEGIN:DAYLIGHT
TZOFFSETFROM:-0600
TZOFFSETTO:-0500
TZNAME:CDT
DTSTART:20240310T080000
END:DAYLIGHT
BEGIN:STANDARD
TZOFFSETFROM:-0500
TZOFFSETTO:-0600
TZNAME:CST
DTSTART:20241103T070000
END:STANDARD
BEGIN:DAYLIGHT
TZOFFSETFROM:-0600
TZOFFSETTO:-0500
TZNAME:CDT
DTSTART:20250309T080000
END:DAYLIGHT
BEGIN:STANDARD
TZOFFSETFROM:-0500
TZOFFSETTO:-0600
TZNAME:CST
DTSTART:20251102T070000
END:STANDARD
BEGIN:DAYLIGHT
TZOFFSETFROM:-0600
TZOFFSETTO:-0500
TZNAME:CDT
DTSTART:20260308T080000
END:DAYLIGHT
BEGIN:STANDARD
TZOFFSETFROM:-0500
TZOFFSETTO:-0600
TZNAME:CST
DTSTART:20261101T070000
END:STANDARD
BEGIN:DAYLIGHT
TZOFFSETFROM:-0600
TZOFFSETTO:-0500
TZNAME:CDT
DTSTART:20270314T080000
END:DAYLIGHT
BEGIN:STANDARD
TZOFFSETFROM:-0500
TZOFFSETTO:-0600
TZNAME:CST
DTSTART:20271107T070000
END:STANDARD
END:VTIMEZONE
BEGIN:VEVENT
DTSTART;TZID=America/Chicago:20260428T181500
DTEND;TZID=America/Chicago:20260428T191500
DTSTAMP:20260423T022458
CREATED:20260326T191606Z
LAST-MODIFIED:20260326T191606Z
UID:4794-1777400100-1777403700@troop8scouting.org
SUMMARY:Troop Meeting
DESCRIPTION:We can’t wait to see you for our regular weekly meeting.
URL:https://troop8scouting.org/event/troop-meeting-4/
LOCATION:First Baptist Church\, 901 Main Street\, Pineville\, LA\, 71360\, United States
CATEGORIES:Troop Meeting
ATTACH;FMTTYPE=image/png:https://troop8scouting.org/wp-content/uploads/2025/01/Troop-8.png
ORGANIZER;CN="Troop 8":MAILTO:info@troop8scouting.org
END:VEVENT
BEGIN:VEVENT
DTSTART;TZID=America/Chicago:20260421T181500
DTEND;TZID=America/Chicago:20260421T191500
DTSTAMP:20260423T022458
CREATED:20260326T191420Z
LAST-MODIFIED:20260326T191449Z
UID:4792-1776795300-1776798900@troop8scouting.org
SUMMARY:Troop Meeting
DESCRIPTION:We can’t wait to see you for our regular weekly meeting.
URL:https://troop8scouting.org/event/troop-meeting-3/
LOCATION:First Baptist Church\, 901 Main Street\, Pineville\, LA\, 71360\, United States
ATTACH;FMTTYPE=image/png:https://troop8scouting.org/wp-content/uploads/2025/01/Troop-8.png
ORGANIZER;CN="Troop 8":MAILTO:info@troop8scouting.org
END:VEVENT
BEGIN:VEVENT
DTSTART;TZID=America/Chicago:20260414T181500
DTEND;TZID=America/Chicago:20260414T191500
DTSTAMP:20260423T022458
CREATED:20260326T191208Z
LAST-MODIFIED:20260326T191307Z
UID:4789-1776190500-1776194100@troop8scouting.org
SUMMARY:Troop Meeting
DESCRIPTION:We can’t wait to see you for our regular weekly meeting.
URL:https://troop8scouting.org/event/troop-meeting-2/
LOCATION:First Baptist Church\, 901 Main Street\, Pineville\, LA\, 71360\, United States
CATEGORIES:Troop Meeting
ATTACH;FMTTYPE=image/png:https://troop8scouting.org/wp-content/uploads/2025/01/Troop-8.png
ORGANIZER;CN="Troop 8":MAILTO:info@troop8scouting.org
END:VEVENT
BEGIN:VEVENT
DTSTART;TZID=America/Chicago:20260407T181500
DTEND;TZID=America/Chicago:20260407T191500
DTSTAMP:20260423T022458
CREATED:20260326T190616Z
LAST-MODIFIED:20260326T190616Z
UID:4784-1775585700-1775589300@troop8scouting.org
SUMMARY:Troop Meeting
DESCRIPTION:We can’t wait to see you for our regular weekly meeting.
URL:https://troop8scouting.org/event/troop-meeting/
LOCATION:First Baptist Church\, 901 Main Street\, Pineville\, LA\, 71360\, United States
CATEGORIES:Troop Meeting
ATTACH;FMTTYPE=image/png:https://troop8scouting.org/wp-content/uploads/2025/01/Troop-8.png
ORGANIZER;CN="Troop 8":MAILTO:info@troop8scouting.org
END:VEVENT
BEGIN:VEVENT
DTSTART;TZID=America/Chicago:20260331T181500
DTEND;TZID=America/Chicago:20260331T191500
DTSTAMP:20260423T022458
CREATED:20260326T185949Z
LAST-MODIFIED:20260326T190129Z
UID:4781-1774980900-1774984500@troop8scouting.org
SUMMARY:No Meeting - Spring Break
DESCRIPTION:Enjoy your Easter break.
URL:https://troop8scouting.org/event/no-meeting-spring-break/
LOCATION:First Baptist Church\, 901 Main Street\, Pineville\, LA\, 71360\, United States
CATEGORIES:Troop Meeting
ATTACH;FMTTYPE=image/png:https://troop8scouting.org/wp-content/uploads/2024/11/cropped-Troop-8-Logo.png
ORGANIZER;CN="Troop 8":MAILTO:info@troop8scouting.org
END:VEVENT
BEGIN:VEVENT
DTSTART;TZID=America/Chicago:20260222T140000
DTEND;TZID=America/Chicago:20260222T153000
DTSTAMP:20260423T022458
CREATED:20260222T053128Z
LAST-MODIFIED:20260222T053128Z
UID:4304-1771768800-1771774200@troop8scouting.org
SUMMARY:Eagle Scout Court of Honor 2026
DESCRIPTION:Troop 8 will be honoring our two newest Eagle Scouts\, Nicholas and Chason!
URL:https://troop8scouting.org/event/eagle-scout-court-of-honor-2026/
LOCATION:First Baptist Church\, 901 Main Street\, Pineville\, LA\, 71360\, United States
CATEGORIES:Court of Honor,Special Events
ATTACH;FMTTYPE=image/png:https://troop8scouting.org/wp-content/uploads/2026/02/co.png
ORGANIZER;CN="Troop 8":MAILTO:info@troop8scouting.org
END:VEVENT
BEGIN:VEVENT
DTSTART;TZID=America/Chicago:20251216T060000
DTEND;TZID=America/Chicago:20251216T190000
DTSTAMP:20260423T022458
CREATED:20251119T005439Z
LAST-MODIFIED:20251119T005439Z
UID:2828-1765864800-1765911600@troop8scouting.org
SUMMARY:Christmas Party 2025
DESCRIPTION:Troop 8 will be hosting a Christmas party to celebrate the holiday spirit! We’ll have Dirty Santa and plenty of fun games. If you bring a gift\, keep it within $15-$20.
URL:https://troop8scouting.org/event/christmas-party-2025/
LOCATION:First Baptist Church\, 901 Main Street\, Pineville\, LA\, 71360\, United States
CATEGORIES:Special Events
ATTACH;FMTTYPE=image/png:https://troop8scouting.org/wp-content/uploads/2025/11/Troop_8_Christmas.png
ORGANIZER;CN="Troop 8":MAILTO:info@troop8scouting.org
END:VEVENT
BEGIN:VEVENT
DTSTART;TZID=America/Chicago:20251213T110000
DTEND;TZID=America/Chicago:20251213T120000
DTSTAMP:20260423T022458
CREATED:20251119T010804Z
LAST-MODIFIED:20251119T010804Z
UID:2832-1765623600-1765627200@troop8scouting.org
SUMMARY:Wreaths Across America 2025
DESCRIPTION:This year\, National Wreaths Across America Day will be held on Saturday\, December 13\, 2025. Troop 8 joins the more than two million volunteers and supporters who will gather to Remember\, Honor and Teach at more than 5\,200 participating locations. Our local cemetery is the Alexandria National Cemetery in Pineville\, Louisiana. This is a wonderful opportunity for youth to engage in community service and learn about the sacrifices of those before us.
URL:https://troop8scouting.org/event/wreaths-across-america-2025/
LOCATION:Alexandria National Cemetery\, 209 East Shamrock Street\, Pineville\, LA\, 71360\, United States
CATEGORIES:Special Events
ATTACH;FMTTYPE=image/png:https://troop8scouting.org/wp-content/uploads/2025/11/Wreaths-Across-America.png
END:VEVENT
BEGIN:VEVENT
DTSTART;TZID=America/Chicago:20251121T180000
DTEND;TZID=America/Chicago:20251125T200000
DTSTAMP:20260423T022458
CREATED:20251014T235921Z
LAST-MODIFIED:20251119T013733Z
UID:2499-1763748000-1764100800@troop8scouting.org
SUMMARY:Winter Camp 2025
DESCRIPTION:Winter camp is a 4-day camping experience for all scouts in the troop.  Scouts will earn four merit badges\, participate in camp competitions\, and have an incredible social experience that they will remember for the rest of their lives. One event exclusive to winter camp is Night Infiltration\, where scouts must sneak around camp to find the “General” without getting caught by staff. Don’t miss out on the opportunity to experience winter camp at Camp Attakapas.
URL:https://troop8scouting.org/event/winter-camp-2025/
LOCATION:Camp Attakapas\, Boy Scouts Road\, Trout\, LA\, 71371\, United States
CATEGORIES:Troop Campout,Winter Camp
ATTACH;FMTTYPE=image/png:https://troop8scouting.org/wp-content/uploads/2025/11/Camp_Flyer25.png
END:VEVENT
BEGIN:VEVENT
DTSTART;TZID=America/Chicago:20251017T180000
DTEND;TZID=America/Chicago:20251019T100000
DTSTAMP:20260423T022458
CREATED:20251014T234844Z
LAST-MODIFIED:20251014T234844Z
UID:2494-1760724000-1760868000@troop8scouting.org
SUMMARY:Fall Camp-O-Ree 2025
DESCRIPTION:This year\, the Louisiana Purchase Council is getting Back to the Basics at Camp Attakapas!  Activities will include Knot Tying\, First Aid\, Fire Starting\, Scout Trivia\, Tent set up and take down.  We also will have a Catapult Building and Launch Competition. \nWe will also have a cooking competition featuring a secret ingredient. If you like cooking shows\, this event is for you!
URL:https://troop8scouting.org/event/fall-camp-o-ree-2025/
LOCATION:Camp Attakapas\, Boy Scouts Road\, Trout\, LA\, 71371\, United States
CATEGORIES:Special Events,Troop Campout
ATTACH;FMTTYPE=image/png:https://troop8scouting.org/wp-content/uploads/2025/06/IMG_9043-scaled.png
END:VEVENT
BEGIN:VEVENT
DTSTART;TZID=America/Chicago:20250628T070000
DTEND;TZID=America/Chicago:20250628T110000
DTSTAMP:20260423T022458
CREATED:20250627T151252Z
LAST-MODIFIED:20250627T151252Z
UID:1987-1751094000-1751108400@troop8scouting.org
SUMMARY:Chason Hernandez Eagle Scout Project
DESCRIPTION:Scouts will be assisting Chason Hernandez in completing his Eagle Scout service project at Mary Goff Elementary. This project will consist of building a path. Scouts are encouraged to bring shovels or other hand tools.
URL:https://troop8scouting.org/event/chason-hernandez-eagle-scout-project/
LOCATION:Mary Goff Elementary School\, 6900 Shreveport Hwy\, Pineville\, LA\, 71360\, United States
CATEGORIES:Special Events
ATTACH;FMTTYPE=image/png:https://troop8scouting.org/wp-content/uploads/2024/11/cropped-Troop-8-Logo.png
ORGANIZER;CN="Troop 8":MAILTO:info@troop8scouting.org
END:VEVENT
BEGIN:VEVENT
DTSTART;TZID=America/Chicago:20250613T000000
DTEND;TZID=America/Chicago:20250619T235959
DTSTAMP:20260423T022458
CREATED:20250511T193908Z
LAST-MODIFIED:20250511T193909Z
UID:1859-1749772800-1750377599@troop8scouting.org
SUMMARY:Summer Camp 2025
DESCRIPTION:Summer Camp is the flagship scouting experience. Scouts will spend a week at Camp Attakapas in Trout\, Louisiana\, and have the opportunity to earn up to five merit badges. There are plenty of opportunities for fun and new experiences\, including swimming\, sports\, cooking\, and more! Don’t miss this exciting event. Registration closes on Thursday\, May 29th.
URL:https://troop8scouting.org/event/summer-camp-2025/
LOCATION:Camp Attakapas\, Boy Scouts Road\, Trout\, LA\, 71371\, United States
CATEGORIES:Summer Camp,Troop Campout
ATTACH;FMTTYPE=image/png:https://troop8scouting.org/wp-content/uploads/2025/05/SUMMER-CAMP.png
END:VEVENT
BEGIN:VEVENT
DTSTART;TZID=America/Chicago:20250429T181500
DTEND;TZID=America/Chicago:20250429T191500
DTSTAMP:20260423T022458
CREATED:20250120T034614Z
LAST-MODIFIED:20250120T034614Z
UID:1492-1745950500-1745954100@troop8scouting.org
SUMMARY:Special Meeting
DESCRIPTION:We will hold a meeting on April 29\, 2025. Scouts may show up in their Class B uniform. Meeting itinerary to be determined at a later date.
URL:https://troop8scouting.org/event/apr-2025-special-meeting/
LOCATION:First Baptist Church\, 901 Main Street\, Pineville\, LA\, 71360\, United States
CATEGORIES:Troop Meeting
ATTACH;FMTTYPE=image/jpeg:https://troop8scouting.org/wp-content/uploads/2024/11/maxresdefault-2.jpg
ORGANIZER;CN="Troop 8":MAILTO:info@troop8scouting.org
END:VEVENT
BEGIN:VEVENT
DTSTART;TZID=America/Chicago:20250415T181500
DTEND;TZID=America/Chicago:20250415T191500
DTSTAMP:20260423T022458
CREATED:20250120T034254Z
LAST-MODIFIED:20250120T034254Z
UID:1490-1744740900-1744744500@troop8scouting.org
SUMMARY:Merit Badge Meeting
DESCRIPTION:We will hold a merit badge meeting on April 15\, 2025. Scouts may show up in their Class B uniform. 
URL:https://troop8scouting.org/event/apr-2025-merit-badge-meeting/
LOCATION:First Baptist Church\, 901 Main Street\, Pineville\, LA\, 71360\, United States
CATEGORIES:Troop Meeting
ATTACH;FMTTYPE=image/jpeg:https://troop8scouting.org/wp-content/uploads/2025/01/Troop-8-Merit-Badge.jpg
ORGANIZER;CN="Troop 8":MAILTO:info@troop8scouting.org
END:VEVENT
BEGIN:VEVENT
DTSTART;TZID=America/Chicago:20250411T181500
DTEND;TZID=America/Chicago:20250411T191500
DTSTAMP:20260423T022458
CREATED:20250120T034007Z
LAST-MODIFIED:20250120T034007Z
UID:1488-1744395300-1744398900@troop8scouting.org
SUMMARY:Fitness Meeting
DESCRIPTION:We will hold a physical fitness meeting on April 11\, 2025. Scouts are expected to wear appropriate clothing for outdoor physical activity and bring any extra supplies needed (water\, sports drinks\, deodorant\, snacks).
URL:https://troop8scouting.org/event/apr-2025-fitness-meeting/
LOCATION:First Baptist Church\, 901 Main Street\, Pineville\, LA\, 71360\, United States
CATEGORIES:Troop Meeting
ATTACH;FMTTYPE=image/jpeg:https://troop8scouting.org/wp-content/uploads/2025/01/Troop-8-Fit-1.jpg
ORGANIZER;CN="Troop 8":MAILTO:info@troop8scouting.org
END:VEVENT
BEGIN:VEVENT
DTSTART;TZID=America/Chicago:20250405T090000
DTEND;TZID=America/Chicago:20250405T160000
DTSTAMP:20260423T022458
CREATED:20250312T224750Z
LAST-MODIFIED:20250312T224750Z
UID:1720-1743843600-1743868800@troop8scouting.org
SUMMARY:Love the Boot Week 2025
DESCRIPTION:Love the Boot Week is Louisiana’s largest litter removal and beautification effort\, with events in all 64 parishes. This year\, Troop 8 has been invited to participate in Love the Boot Week at Forts Randolph and Buhlow in Pineville. This is a great way to support the local community and get service hours. We encourage all scouts to participate!
URL:https://troop8scouting.org/event/mar-2025-love-the-boot-week-kickoff/
LOCATION:Forts Randolph & Buhlow\, 135 Riverfront Street\, Pineville\, LA\, 71360\, United States
CATEGORIES:Special Events
ATTACH;FMTTYPE=image/jpeg:https://troop8scouting.org/wp-content/uploads/2025/03/large_16761.32032.jpg
ORGANIZER;CN="Keep Louisiana Beautiful":MAILTO:info@keeplouisianabeautiful.org
END:VEVENT
BEGIN:VEVENT
DTSTART;TZID=America/Chicago:20250401T181500
DTEND;TZID=America/Chicago:20250401T191500
DTSTAMP:20260423T022458
CREATED:20250120T032925Z
LAST-MODIFIED:20250120T032925Z
UID:1484-1743531300-1743534900@troop8scouting.org
SUMMARY:Regular Meeting
DESCRIPTION:We will hold a regular meeting on April 1\, 2025. Current scouts are expected to show up in Class A uniform.
URL:https://troop8scouting.org/event/apr-2025-regular-meeting/
LOCATION:First Baptist Church\, 901 Main Street\, Pineville\, LA\, 71360\, United States
CATEGORIES:Troop Meeting
ATTACH;FMTTYPE=image/png:https://troop8scouting.org/wp-content/uploads/2025/01/Troop-8.png
ORGANIZER;CN="Troop 8":MAILTO:info@troop8scouting.org
END:VEVENT
BEGIN:VEVENT
DTSTART;TZID=America/Chicago:20250321T180000
DTEND;TZID=America/Chicago:20250323T100000
DTSTAMP:20260423T022458
CREATED:20250120T032324Z
LAST-MODIFIED:20250120T032559Z
UID:1482-1742580000-1742724000@troop8scouting.org
SUMMARY:Spring 2025 Cub-O-Ree & Troop Campout
DESCRIPTION:On March 21 and 22\, the Louisiana Purchase Council will be holding the annual Spring Cub-O-Ree at Camp Attakapas. Troop 8 will arrive on Friday evening to camp out as a troop. On Saturday we will help the council with anything they need for Cub-O-Ree\, including setting up\, running games\, giving directions\, and cleaning up. We will camp Saturday night (optional) and leave Sunday morning. \nIn addition to staffing Cub-O-Ree\, scouts will also be developing camping skills\, cooking meals over a campfire\, working on requirements for ranking up\, strengthening friendships\, and\, most importantly\, having fun!
URL:https://troop8scouting.org/event/mar-2025-campout/
LOCATION:Camp Attakapas\, Boy Scouts Road\, Trout\, LA\, 71371\, United States
CATEGORIES:Troop Campout
ATTACH;FMTTYPE=image/jpeg:https://troop8scouting.org/wp-content/uploads/2024/12/IMG_6881-scaled.jpeg
ORGANIZER;CN="Troop 8":MAILTO:info@troop8scouting.org
END:VEVENT
BEGIN:VEVENT
DTSTART;TZID=America/Chicago:20250318T181500
DTEND;TZID=America/Chicago:20250318T191500
DTSTAMP:20260423T022458
CREATED:20250120T030919Z
LAST-MODIFIED:20250120T030919Z
UID:1480-1742321700-1742325300@troop8scouting.org
SUMMARY:Merit Badge Meeting
DESCRIPTION:We will hold a merit badge meeting on March 18\, 2025. Scouts may show up in their Class B uniform. 
URL:https://troop8scouting.org/event/mar-2025-merit-badge-meeting/
LOCATION:First Baptist Church\, 901 Main Street\, Pineville\, LA\, 71360\, United States
CATEGORIES:Troop Meeting
ATTACH;FMTTYPE=image/jpeg:https://troop8scouting.org/wp-content/uploads/2025/01/Troop-8-Merit-Badge.jpg
ORGANIZER;CN="Troop 8":MAILTO:info@troop8scouting.org
END:VEVENT
BEGIN:VEVENT
DTSTART;TZID=America/Chicago:20250311T181500
DTEND;TZID=America/Chicago:20250311T191500
DTSTAMP:20260423T022458
CREATED:20250120T030506Z
LAST-MODIFIED:20250120T030506Z
UID:1478-1741716900-1741720500@troop8scouting.org
SUMMARY:Fitness Meeting
DESCRIPTION:We will hold a physical fitness meeting on March 11\, 2025. Scouts are expected to wear appropriate clothing for outdoor physical activity and bring any extra supplies needed (water\, sports drinks\, deodorant\, snacks).
URL:https://troop8scouting.org/event/mar-2025-fitness-meeting/
LOCATION:First Baptist Church\, 901 Main Street\, Pineville\, LA\, 71360\, United States
CATEGORIES:Troop Meeting
ATTACH;FMTTYPE=image/jpeg:https://troop8scouting.org/wp-content/uploads/2025/01/Troop-8-Fit-1.jpg
ORGANIZER;CN="Troop 8":MAILTO:info@troop8scouting.org
END:VEVENT
BEGIN:VEVENT
DTSTART;TZID=America/Chicago:20250304T181500
DTEND;TZID=America/Chicago:20250304T191500
DTSTAMP:20260423T022458
CREATED:20250120T030048Z
LAST-MODIFIED:20250120T030048Z
UID:1476-1741112100-1741115700@troop8scouting.org
SUMMARY:Regular Meeting
DESCRIPTION:We will hold a regular meeting on March 4\, 2025. Current scouts are expected to show up in Class A uniform. We will be learning about different aspects of Scouting in rotating stations.
URL:https://troop8scouting.org/event/mar-2025-regular-meeting/
LOCATION:First Baptist Church\, 901 Main Street\, Pineville\, LA\, 71360\, United States
CATEGORIES:Troop Meeting
ATTACH;FMTTYPE=image/png:https://troop8scouting.org/wp-content/uploads/2025/01/Troop-8.png
ORGANIZER;CN="Troop 8":MAILTO:info@troop8scouting.org
END:VEVENT
BEGIN:VEVENT
DTSTART;TZID=America/Chicago:20250218T181500
DTEND;TZID=America/Chicago:20250218T191500
DTSTAMP:20260423T022458
CREATED:20250120T024631Z
LAST-MODIFIED:20250206T002515Z
UID:1464-1739902500-1739906100@troop8scouting.org
SUMMARY:Fitness Meeting
DESCRIPTION:We will hold a physical fitness meeting on February 11\, 2025. Scouts are expected to wear appropriate clothing for outdoor physical activity and bring any extra supplies needed (water\, sports drinks\, deodorant\, snacks).
URL:https://troop8scouting.org/event/feb-2025-fitness-meeting/
LOCATION:First Baptist Church\, 901 Main Street\, Pineville\, LA\, 71360\, United States
CATEGORIES:Troop Meeting
ATTACH;FMTTYPE=image/jpeg:https://troop8scouting.org/wp-content/uploads/2025/01/Troop-8-Fit-1.jpg
ORGANIZER;CN="Troop 8":MAILTO:info@troop8scouting.org
END:VEVENT
BEGIN:VEVENT
DTSTART;TZID=America/Chicago:20250214T074500
DTEND;TZID=America/Chicago:20250214T120000
DTSTAMP:20260423T022458
CREATED:20250212T021056Z
LAST-MODIFIED:20250212T021056Z
UID:1601-1739519100-1739534400@troop8scouting.org
SUMMARY:Matthew Kimball's Eagle Scout Project
DESCRIPTION:On February 14\, Matthew Kimball will be completing his Eagle Project with Troop 8. We plan to start at 7:30AM on Friday\, and should wrap up around 12:00PM. We will be building shelves for the First Baptist Church in Pineville. If you plan to come\, we request that you bring a drill if you own one. More tools will make the project go faster! Matthew has been with Troop 8 for a long time and we hope that this will be a highly successful Eagle Scout project.
URL:https://troop8scouting.org/event/feb-14-eagle-project/
LOCATION:First Baptist Church\, 901 Main Street\, Pineville\, LA\, 71360\, United States
CATEGORIES:Special Events
ATTACH;FMTTYPE=image/jpeg:https://troop8scouting.org/wp-content/uploads/2025/02/EAGLE-SCOUT-PROJECT.jpg
ORGANIZER;CN="Troop 8":MAILTO:info@troop8scouting.org
END:VEVENT
BEGIN:VEVENT
DTSTART;TZID=America/Chicago:20250211T181500
DTEND;TZID=America/Chicago:20250211T191500
DTSTAMP:20260423T022458
CREATED:20250120T025633Z
LAST-MODIFIED:20250206T002428Z
UID:1468-1739297700-1739301300@troop8scouting.org
SUMMARY:Merit Badge Meeting & Preview Night
DESCRIPTION:We will hold a merit badge meeting on February 18\, 2025. Current should come in full Class A uniform. We will be working on the wood carving merit badge and whittling in bars of soap. We invite all Cub Scouts\, families\, and any youth ages 12-17 to show up and participate with us!
URL:https://troop8scouting.org/event/feb-2025-merit-badge-meeting-preview-night/
LOCATION:First Baptist Church\, 901 Main Street\, Pineville\, LA\, 71360\, United States
CATEGORIES:Special Events,Troop Meeting
ATTACH;FMTTYPE=image/jpeg:https://troop8scouting.org/wp-content/uploads/2025/01/Troop-8-Merit-Badge.jpg
ORGANIZER;CN="Troop 8":MAILTO:info@troop8scouting.org
END:VEVENT
BEGIN:VEVENT
DTSTART;TZID=America/Chicago:20250209T094500
DTEND;TZID=America/Chicago:20250209T120000
DTSTAMP:20260423T022458
CREATED:20250120T014548Z
LAST-MODIFIED:20250120T025802Z
UID:1452-1739094300-1739102400@troop8scouting.org
SUMMARY:Scout Sunday 2025
DESCRIPTION:Scout Sunday is our yearly affirmation of the twelfth point of the Scout Law: A Scout is Reverent. The troop will be recognized by our charter organization\, the First Baptist Church. It is a good opportunity for each scout to respect their Duty to God and to make a good name for Scouting in the community. Scout Sunday is free and open to all.
URL:https://troop8scouting.org/event/scout-sunday-2025/
LOCATION:First Baptist Church\, 901 Main Street\, Pineville\, LA\, 71360\, United States
CATEGORIES:Scout Sunday,Special Events
ATTACH;FMTTYPE=image/jpeg:https://troop8scouting.org/wp-content/uploads/2024/11/maxresdefault-2.jpg
ORGANIZER;CN="First Baptist Church Pineville":MAILTO:info@fbcpineville.net
END:VEVENT
BEGIN:VEVENT
DTSTART;TZID=America/Chicago:20250204T181500
DTEND;TZID=America/Chicago:20250204T191500
DTSTAMP:20260423T022458
CREATED:20250120T023551Z
LAST-MODIFIED:20250120T035519Z
UID:1456-1738692900-1738696500@troop8scouting.org
SUMMARY:Regular Meeting
DESCRIPTION:We will hold a regular meeting on February 4\, 2025. Current scouts are expected to show up in Class A uniform. \nDuring this meeting we will discuss proper form and equipment for exercising. We will also hold our yearly elections.
URL:https://troop8scouting.org/event/feb-2025-regular-meeting/
LOCATION:First Baptist Church\, 901 Main Street\, Pineville\, LA\, 71360\, United States
CATEGORIES:Troop Meeting
ATTACH;FMTTYPE=image/png:https://troop8scouting.org/wp-content/uploads/2025/01/Troop-8.png
ORGANIZER;CN="Troop 8":MAILTO:info@troop8scouting.org
END:VEVENT
BEGIN:VEVENT
DTSTART;TZID=America/Chicago:20250124T000000
DTEND;TZID=America/Chicago:20250126T235959
DTSTAMP:20260423T022458
CREATED:20241210T031806Z
LAST-MODIFIED:20250120T024946Z
UID:1281-1737676800-1737935999@troop8scouting.org
SUMMARY:Klondike 2025
DESCRIPTION:Klondike is a fun camping opportunity for all troops within the Louisiana Purchase Council! Troops camp out and compete in various games\, developing skills like knot-tying and fire-building\, and cooking. Klondike is also a great opportunity for team-building within and outside of the troop. The games culminate in a troop dogsled race and scouts will be challenged to demonstrate the knowledge that they have gained through the weekend. Show up to this fun event on Friday\, January 17th through Sunday\, January 19th! \nFind more information and register on the council website here.
URL:https://troop8scouting.org/event/klondike-2025/
LOCATION:Camp T.L. James\, 105 Camp TL James Rd\, Downsville\, LA\, 71234\, United States
CATEGORIES:Special Events
ATTACH;FMTTYPE=image/jpeg:https://troop8scouting.org/wp-content/uploads/2024/12/tlj.jpg
END:VEVENT
BEGIN:VEVENT
DTSTART;TZID=America/Chicago:20241122T000000
DTEND;TZID=America/Chicago:20241126T235959
DTSTAMP:20260423T022458
CREATED:20241028T001330Z
LAST-MODIFIED:20241117T024821Z
UID:591-1732233600-1732665599@troop8scouting.org
SUMMARY:Winter Camp 2024
DESCRIPTION:Louisiana Purchase Council Winter Camp 2024\nLocated at Camp Attakapas\nWinter camp is a 4-day camping experience for all scouts in the troop.  Scouts will earn four merit badges\, participate in camp competitions\, and have an incredible social experience that they will remember for the rest of their lives. One event exclusive to winter camp is Night Infiltration\, where scouts must sneak around camp to find the “General” without getting caught by staff. Don’t miss out on the opportunity to experience winter camp at Camp Attakapas. \nDeadline to register is Monday\, November 20th. \nRegister here. \nSee more of Troop 8 at Camp Attakapas here.
URL:https://troop8scouting.org/event/winter-camp-2024/
LOCATION:Camp Attakapas\, Boy Scouts Road\, Trout\, LA\, 71371\, United States
CATEGORIES:Troop Campout,Winter Camp
ATTACH;FMTTYPE=image/png:https://troop8scouting.org/wp-content/uploads/2024/10/Friday-November-22nd-Tuesday-November-26th.png
END:VEVENT
BEGIN:VEVENT
DTSTART;TZID=America/Chicago:20241119T180000
DTEND;TZID=America/Chicago:20241119T190000
DTSTAMP:20260423T022458
CREATED:20241113T043852Z
LAST-MODIFIED:20241117T023550Z
UID:1073-1732039200-1732042800@troop8scouting.org
SUMMARY:Court of Honor
DESCRIPTION:On November 19\, 2024\, Troop 8 will be hosting a Court of Honor to recognize the effort and dedication of our scouts. We invite all family and friends to join us and celebrate another year of scouting! \nScouts should wear their full Class A uniforms.
URL:https://troop8scouting.org/event/court-of-honor-3/
LOCATION:First Baptist Church\, 901 Main Street\, Pineville\, LA\, 71360\, United States
CATEGORIES:Court of Honor,Special Events
ATTACH;FMTTYPE=image/png:https://troop8scouting.org/wp-content/uploads/2024/11/TROOP-8-COURT-OF-HONOR1.png
ORGANIZER;CN="Troop 8":MAILTO:info@troop8scouting.org
END:VEVENT
BEGIN:VEVENT
DTSTART;TZID=America/Chicago:20220719T180000
DTEND;TZID=America/Chicago:20220719T190000
DTSTAMP:20260423T022458
CREATED:20220214T031325Z
LAST-MODIFIED:20220214T031325Z
UID:317-1658253600-1658257200@troop8scouting.org
SUMMARY:Court of Honor
DESCRIPTION:Court of Honor
URL:https://troop8scouting.org/event/court-of-honor-2/
LOCATION:First United Methodist Church\, 2550 Monroe Highway\, Pineville\, LA\, 71360\, United States
END:VEVENT
END:VCALENDAR